BEGIN:VCALENDAR
VERSION:2.0
PRODID:-//ChamberMaster//Event Calendar 2.0//EN
METHOD:PUBLISH
X-PUBLISHED-TTL:P1H
REFRESH-INTERVAL:P1H
CALSCALE:GREGORIAN
BEGIN:VTIMEZONE
TZID:America/Los_Angeles
BEGIN:DAYLIGHT
RRULE:FREQ=YEARLY;BYMONTH=3;BYDAY=2SU
DTSTART:20070101T000000
TZOFFSETFROM:-0800
TZOFFSETTO:-0700
TZNAME:Pacific Daylight Time
END:DAYLIGHT
BEGIN:STANDARD
RRULE:FREQ=YEARLY;BYMONTH=11;BYDAY=1SU
DTSTART:20070101T000000
TZOFFSETFROM:-0700
TZOFFSETTO:-0800
TZNAME:Pacific Standard Time
END:STANDARD
END:VTIMEZONE
BEGIN:VEVENT
DTSTART;VALUE=DATE:20240505
DTEND;VALUE=DATE:20240508
TRANSP:TRANSPARENT
X-MICROSOFT-CDO-ALLDAYEVENT:TRUE
SUMMARY:2024 WTA Leadership Conference & Vendor Showcase
DESCRIPTION:The 2024 WTA Annual Leadership Conference & Vendor Showcase will take place at the beautiful Coeur d'Alene Resort in Coeur d'Alene\, Idaho. Attending the WTA Annual Leadership Conference & Vendor Showcase is one of the best ways to get the most out of your membership. Packed with high-level discussion\, pressing industry issues\, and networking with the best and brightest in the industry\, it allows you and your staff to stay current on the industry and improve your bottom line.Don't forget to reserve your room directly with the Coeur d'Alene Resort call (888) 965-6542 and mention the WTA room block.AGENDASunday\, May 5 | From 10:00 am10:00 am   Golf\, Coeur d'Alene Golf Course2:30 pm   Safety Round Table5:00 pm   Supplier's Networking Reception & Gala\; Showcase your products and/or services at a vendor booth\, or simply network with fellow industry members and suppliers while enjoying good food and drink and a light program.Senator Mark Mullet\, Washington State Gubernatorial CandidateMonday\, May 6 | From 7:30 am7:30am   Registration Opens/Breakfast8:00am   Chairman's Welcome8:15am   "An Update on the Economy" Thom Albrecht\, CFO Reliance Partners9:00am   "Planning and Navigating Rules for Zero Emission Trucks" Kirk Gulian\, Director of EV Sales\, Dobbs Peterbilt9:45am -- BREAK10:00am   Autonomous Vehicle Future Panel: Senator Matt Boehnke\, Brett Fabbri\, Kodiak Robotics\, Todd James\, Drivewyze11:00am   "The Four Phases of Litigation" Doug Marcello\, Saxton & Stump Lawyers & Consultants   SPONSORED by King Safety & ComplianceLUNCH & Vendor Break1:00pm   Law Enforcement Advisory Board   Mark Savage\, LEAB Chairman\, Fred Fakkema\, Immediate Past LEAB Chairman1:15pm   Keynote: Dennis Dellinger\,1st Vice President\, American Trucking Associations2:00pm   VENDOR BREAK2:15pm   "Buying a Zero Emission Vehicle? Learn more about this process and how incentives can work for you" TEC Equipment panel   John Barnes & guests.3:30pm   Gubernatorial Candidate Dave Reichert5:30 pm   Social Reception & Dinner cruise on Lake Coeur d'AleneTuesday\, May 7 | From 7:30 amSpeakers & Annual Meeting7:30am   Breakfast8:00am   "Cap & Invest\; What are the Impacts and Why?" Jessica Spiegel\, Vice President NW Region\, Western States Petroleum AssociationBREAK9:00am   Mike Gribner\, Deputy Director   WA Department of Transportation9:45am   BREAK10:00am   Semi Bird\, Gubernatorial Candidate10:30   11:00am - BREAK11:00am   Annual Meeting11:45am   Meeting adjournment12:00pm   Board of Directors Meeting
X-ALT-DESC;FMTTYPE=text/html:<!DOCTYPE html><html><head><title></title></head><body aria-disabled="false"><p>The 2024 WTA Annual Leadership Conference &amp\; Vendor Showcase will take place at the beautiful Coeur d&#39\;Alene Resort in Coeur d&#39\;Alene\, Idaho.&nbsp\;</p><p>Attending the WTA Annual Leadership Conference &amp\; Vendor Showcase is one of the best ways to get the most out of your membership. Packed with high-level discussion\, pressing industry issues\, and networking with the best and brightest in the industry\, it allows you and your staff to stay current on the industry and improve your bottom line.</p><p><strong fr-original-style="" style="font-weight: 700\;">Don&#39\;t forget to reserve your room directly with the Coeur d&#39\;Alene Resort call (888)&nbsp\;</strong><span style="caret-color: rgb(0\, 0\, 0)\; color: rgb(0\, 0\, 0)\; font-family: Aptos\, Aptos_EmbeddedFont\, Aptos_MSFontService\, Calibri\, Helvetica\, sans-serif\; font-size: 16px\; font-style: normal\; font-variant-caps: normal\; font-weight: 400\; letter-spacing: normal\; orphans: auto\; text-align: start\; text-indent: 0px\; text-transform: none\; white-space: normal\; widows: auto\; word-spacing: 0px\; -webkit-text-stroke-width: 0px\; background-color: rgb(255\, 255\, 255)\; text-decoration: none\; display: inline !important\; float: none\;"><strong fr-original-style="" style="font-weight: 700\;">965-6542</strong></span><strong fr-original-style="" style="font-weight: 700\;">&nbsp\;and mention the WTA room block.</strong></p><div style="--awb-bg-size:cover\;--awb-width-large:66.666666666667%\;--awb-margin-top-large:0px\;--awb-spacing-right-large:2.88%\;--awb-margin-bottom-large:20px\;--awb-spacing-left-large:2.88%\;--awb-width-medium:66.666666666667%\;--awb-order-medium:0\;--awb-spacing-right-medium:2.88%\;--awb-spacing-left-medium:2.88%\;--awb-width-small:100%\;--awb-order-small:0\;--awb-spacing-right-small:1.92%\;--awb-spacing-left-small:1.92%\;"><p><b data-fusion-font="true" style="font-size: 36px\;">AGENDA</b></p><p style="mso-margin-top-alt:auto\;mso-margin-bottom-alt:auto\;"><strong fr-original-style="" style="font-weight: 700\;">Sunday\, May 5</strong> | From 10:00 am</p><ul fr-original-style="" style="list-style-position: inside\;" type="disc"><li style="mso-margin-top-alt:auto\;mso-margin-bottom-alt:auto\;     mso-list:l2 level1 lfo1\;tab-stops:list .5in\;">10:00 am &ndash\; <strong fr-original-style="" style="font-weight: 700\;">Golf</strong>\, Coeur d&rsquo\;Alene Golf Course</li><li style="mso-margin-top-alt:auto\;mso-margin-bottom-alt:auto\;     mso-list:l2 level1 lfo1\;tab-stops:list .5in\;">2:30 pm &ndash\; Safety Round Table</li><li style="mso-margin-top-alt:auto\;mso-margin-bottom-alt:auto\;     mso-list:l2 level1 lfo1\;tab-stops:list .5in\;">5:00 pm &ndash\; <strong fr-original-style="" style="font-weight: 700\;">Supplier&rsquo\;s Networking Reception &amp\; Gala\;&nbsp\;</strong>Showcase your products and/or services at a vendor booth\, or simply network with fellow industry members and suppliers while enjoying good food and drink and a light program.</li><li style="mso-margin-top-alt:auto\;mso-margin-bottom-alt:auto\;     mso-list:l2 level1 lfo1\;tab-stops:list .5in\;"><strong fr-original-style="" style="font-weight: 700\;">Senator Mark Mullet</strong>\, Washington State Gubernatorial Candidate</li></ul><p style="mso-margin-top-alt:auto\;mso-margin-bottom-alt:auto\;"><strong fr-original-style="" style="font-weight: 700\;">Monday\, May 6</strong> | From 7:30 am</p><ul fr-original-style="" style="list-style-position: inside\;" type="disc"><li style="mso-margin-top-alt:auto\;mso-margin-bottom-alt:auto\;     line-height:115%\;mso-list:l1 level1 lfo2\;tab-stops:list .5in\;">7:30am &ndash\; Registration Opens/Breakfast</li><li style="mso-margin-top-alt:auto\;mso-margin-bottom-alt:auto\;     line-height:115%\;mso-list:l1 level1 lfo2\;tab-stops:list .5in\;">8:00am &ndash\; Chairman&rsquo\;s Welcome</li><li style="mso-margin-top-alt:auto\;mso-margin-bottom-alt:auto\;     line-height:115%\;mso-list:l1 level1 lfo2\;tab-stops:list .5in\;">8:15am &ndash\; &ldquo\;An Update on the Economy&rdquo\; <strong fr-original-style="" style="font-weight: 700\;">Thom Albrecht</strong>\, CFO Reliance Partners</li><li style="mso-margin-top-alt:auto\;mso-margin-bottom-alt:auto\;     line-height:115%\;mso-list:l1 level1 lfo2\;tab-stops:list .5in\;">9:00am &ndash\; &ldquo\;Planning and Navigating Rules for Zero Emission Trucks&rdquo\; <strong fr-original-style="" style="font-weight: 700\;">Kirk Gulian</strong>\, Director of EV Sales\, Dobbs Peterbilt</li><li style="mso-margin-top-alt:auto\;mso-margin-bottom-alt:auto\;     line-height:115%\;mso-list:l1 level1 lfo2\;tab-stops:list .5in\;">9:45am -- BREAK</li><li style="mso-margin-top-alt:auto\;mso-margin-bottom-alt:auto\;     line-height:115%\;mso-list:l1 level1 lfo2\;tab-stops:list .5in\;">10:00am &ndash\; Autonomous Vehicle Future Panel: <strong fr-original-style="" style="font-weight: 700\;">Senator Matt Boehnke</strong>\, <strong fr-original-style="" style="font-weight: 700\;">Brett Fabbri</strong>\, Kodiak Robotics\, <strong fr-original-style="" style="font-weight: 700\;">Todd James</strong>\, Drivewyze</li><li style="mso-margin-top-alt:auto\;mso-margin-bottom-alt:auto\;     line-height:115%\;mso-list:l1 level1 lfo2\;tab-stops:list .5in\;">11:00am &ndash\; &ldquo\;The Four Phases of Litigation&rdquo\; <strong fr-original-style="" style="font-weight: 700\;">Doug Marcello</strong>\, Saxton &amp\; Stump Lawyers &amp\; Consultants &ndash\; SPONSORED by <strong fr-original-style="" style="font-weight: 700\;"><em>King Safety &amp\; Compliance</em></strong></li><li style="mso-margin-top-alt:auto\;mso-margin-bottom-alt:auto\;     line-height:115%\;mso-list:l1 level1 lfo2\;tab-stops:list .5in\;"><strong fr-original-style="" style="font-weight: 700\;">LUNCH &amp\; Vendor Break</strong></li><li style="mso-margin-top-alt:auto\;mso-margin-bottom-alt:auto\;     line-height:115%\;mso-list:l1 level1 lfo2\;tab-stops:list .5in\;">1:00pm &ndash\; Law Enforcement Advisory Board &ndash\; <strong fr-original-style="" style="font-weight: 700\;">Mark Savage</strong>\, LEAB Chairman\, <strong fr-original-style="" style="font-weight: 700\;">Fred Fakkema</strong>\, Immediate Past LEAB Chairman</li><li style="mso-margin-top-alt:auto\;mso-margin-bottom-alt:auto\;     line-height:115%\;mso-list:l1 level1 lfo2\;tab-stops:list .5in\;">1:15pm &ndash\; Keynote: <strong fr-original-style="" style="font-weight: 700\;">Dennis Dellinger</strong>\,1st Vice President\, American Trucking Associations</li><li style="mso-margin-top-alt:auto\;mso-margin-bottom-alt:auto\;     line-height:115%\;mso-list:l1 level1 lfo2\;tab-stops:list .5in\;">2:00pm &ndash\; VENDOR BREAK</li><li style="mso-margin-top-alt:auto\;mso-margin-bottom-alt:auto\;     mso-list:l1 level1 lfo2\;tab-stops:list .5in\;">2:15pm &ndash\; &ldquo\;Buying a Zero Emission Vehicle? Learn more about this process and how incentives can work for you&rdquo\; TEC Equipment panel &ndash\; <strong fr-original-style="" style="font-weight: 700\;">John Barnes</strong> &amp\; guests.</li><li style="mso-margin-top-alt:auto\;mso-margin-bottom-alt:auto\;     line-height:115%\;mso-list:l1 level1 lfo2\;tab-stops:list .5in\;">3:30pm &ndash\; Gubernatorial Candidate <strong fr-original-style="" style="font-weight: 700\;">Dave Reichert</strong></li><li style="mso-margin-top-alt:auto\;mso-margin-bottom-alt:auto\;     line-height:115%\;mso-list:l1 level1 lfo2\;tab-stops:list .5in\;">5:30 pm &ndash\; Social Reception &amp\; Dinner cruise on Lake Coeur d&rsquo\;Alene</li></ul><p style="mso-margin-top-alt:auto\;mso-margin-bottom-alt:auto\;"><strong fr-original-style="" style="font-weight: 700\;">Tuesday\, May 7</strong> | From 7:30 am</p><p style="mso-margin-top-alt:auto\;mso-margin-bottom-alt:auto\;"><u>Speakers &amp\; Annual Meeting</u></p><ul fr-original-style="" style="list-style-position: inside\;" type="disc"><li style="mso-margin-top-alt:auto\;mso-margin-bottom-alt:auto\;     line-height:115%\;mso-list:l0 level1 lfo3\;tab-stops:list .5in\;">7:30am &ndash\; Breakfast</li><li style="mso-margin-top-alt:auto\;mso-margin-bottom-alt:auto\;     line-height:115%\;mso-list:l0 level1 lfo3\;tab-stops:list .5in\;">8:00am &ndash\; &ldquo\;Cap &amp\; Invest\; What are the Impacts and Why?&rdquo\; <strong fr-original-style="" style="font-weight: 700\;">Jessica Spiegel</strong>\, Vice President NW Region\, Western States Petroleum Association</li><li style="mso-margin-top-alt:auto\;mso-margin-bottom-alt:auto\;     line-height:115%\;mso-list:l0 level1 lfo3\;tab-stops:list .5in\;">BREAK</li><li style="mso-margin-top-alt:auto\;mso-margin-bottom-alt:auto\;     line-height:115%\;mso-list:l0 level1 lfo3\;tab-stops:list .5in\;">9:00am &ndash\;<strong fr-original-style="" style="font-weight: 700\;">&nbsp\;Mike Gribner</strong>\, Deputy Director &ndash\; WA Department of Transportation</li><li style="mso-margin-top-alt:auto\;mso-margin-bottom-alt:auto\;     line-height:115%\;mso-list:l0 level1 lfo3\;tab-stops:list .5in\;">9:45am &ndash\; BREAK</li><li style="mso-margin-top-alt:auto\;mso-margin-bottom-alt:auto\;     line-height:115%\;mso-list:l0 level1 lfo3\;tab-stops:list .5in\;">10:00am &ndash\; <strong fr-original-style="" style="font-weight: 700\;">Semi Bird</strong>\, Gubernatorial Candidate</li><li style="mso-margin-top-alt:auto\;mso-margin-bottom-alt:auto\;     line-height:115%\;mso-list:l0 level1 lfo3\;tab-stops:list .5in\;">10:30 &ndash\; 11:00am - BREAK</li><li style="mso-margin-top-alt:auto\;mso-margin-bottom-alt:auto\;     line-height:115%\;mso-list:l0 level1 lfo3\;tab-stops:list .5in\;">11:00am &ndash\; Annual Meeting</li><li style="mso-margin-top-alt:auto\;mso-margin-bottom-alt:auto\;     line-height:115%\;mso-list:l0 level1 lfo3\;tab-stops:list .5in\;">11:45am &ndash\; Meeting adjournment</li><li style="mso-margin-top-alt:auto\;mso-margin-bottom-alt:auto\;     line-height:115%\;mso-list:l0 level1 lfo3\;tab-stops:list .5in\;">12:00pm &ndash\; Board of Directors Meeting</li></ul></div><p><strong fr-original-style="" style="font-weight: 700\;"><br></strong></p><p><br></p></body></html>
LOCATION:115 S 2nd St Coeur d'Alene 83814
UID:e.2500.895667
SEQUENCE:3
DTSTAMP:20260424T030530Z
URL:https://members.watrucking.org/events/Details/2024-wta-leadership-conference-vendor-showcase-1005284?sourceTypeId=Hub
END:VEVENT
END:VCALENDAR
